BEGIN:VCALENDAR
VERSION:2.0
PRODID:-//Club Attitude Plus - ECPv5.9.0//NONSGML v1.0//EN
CALSCALE:GREGORIAN
METHOD:PUBLISH
X-WR-CALNAME:Club Attitude Plus
X-ORIGINAL-URL:https://clubattitudeplus.com
X-WR-CALDESC:Events for Club Attitude Plus
BEGIN:VTIMEZONE
TZID:Europe/Brussels
BEGIN:DAYLIGHT
TZOFFSETFROM:+0100
TZOFFSETTO:+0200
TZNAME:CEST
DTSTART:20220327T010000
END:DAYLIGHT
BEGIN:STANDARD
TZOFFSETFROM:+0200
TZOFFSETTO:+0100
TZNAME:CET
DTSTART:20221030T010000
END:STANDARD
END:VTIMEZONE
BEGIN:VEVENT
DTSTART;TZID=Europe/Brussels:20221216T190000
DTEND;TZID=Europe/Brussels:20221216T190000
DTSTAMP:20260420T133436
CREATED:20221004T131310Z
LAST-MODIFIED:20221004T131310Z
UID:1538-1671217200-1671217200@clubattitudeplus.com
SUMMARY:Everest   Villeneuve d'Asq (Haut de France)
DESCRIPTION:Réunion d’entrainement\n 
URL:https://clubattitudeplus.com/evenement/everest-villeneuve-dasq-haut-de-france-11/
LOCATION:Maison Blanchatte\, Rue Gaston Baratte n°71
ORGANIZER;CN="JP":MAILTO:franzen.jeanpaul@gmail.com
END:VEVENT
BEGIN:VEVENT
DTSTART;TZID=Europe/Brussels:20221216T190000
DTEND;TZID=Europe/Brussels:20221216T190000
DTSTAMP:20260420T133436
CREATED:20221007T134039Z
LAST-MODIFIED:20221007T134047Z
UID:1677-1671217200-1671217200@clubattitudeplus.com
SUMMARY:Rondia    Amay    (Huy)
DESCRIPTION:Réunion d’entrainement\n 
URL:https://clubattitudeplus.com/evenement/rondia-amay-huy-3/
LOCATION:Espace Ste Ode Amay\, 47 Chaussée Roosevelt\, 4450 Amay
ORGANIZER;CN="Janique":MAILTO:jeannebertrand@hotmail.com
END:VEVENT
BEGIN:VEVENT
DTSTART;TZID=Europe/Brussels:20221216T190000
DTEND;TZID=Europe/Brussels:20221216T230000
DTSTAMP:20260420T133436
CREATED:20221004T143146Z
LAST-MODIFIED:20221004T143240Z
UID:1600-1671217200-1671231600@clubattitudeplus.com
SUMMARY:Elite   Quaregnon
DESCRIPTION:Réunion d’entrainement\n  \n 
URL:https://clubattitudeplus.com/evenement/elite-quaregnon/
LOCATION:Maison des Associations\, rue de Monsville 177\, Quaregnon\, 7390\, Belgium
ORGANIZER;CN="Kathy%20Meuter":MAILTO:kathy.meuter@skynet.be
END:VEVENT
END:VCALENDAR