BEGIN:VCALENDAR
VERSION:2.0
PRODID:-//Club Attitude Plus - ECPv5.9.0//NONSGML v1.0//EN
CALSCALE:GREGORIAN
METHOD:PUBLISH
X-WR-CALNAME:Club Attitude Plus
X-ORIGINAL-URL:https://clubattitudeplus.com
X-WR-CALDESC:Events for Club Attitude Plus
BEGIN:VTIMEZONE
TZID:Europe/Brussels
BEGIN:DAYLIGHT
TZOFFSETFROM:+0100
TZOFFSETTO:+0200
TZNAME:CEST
DTSTART:20230326T010000
END:DAYLIGHT
BEGIN:STANDARD
TZOFFSETFROM:+0200
TZOFFSETTO:+0100
TZNAME:CET
DTSTART:20231029T010000
END:STANDARD
END:VTIMEZONE
BEGIN:VEVENT
DTSTART;TZID=Europe/Brussels:20230617T140000
DTEND;TZID=Europe/Brussels:20230618T190000
DTSTAMP:20260423T144541
CREATED:20221004T143449Z
LAST-MODIFIED:20221004T143449Z
UID:1602-1687010400-1687114800@clubattitudeplus.com
SUMMARY:Everest   Villeneuve d'Asq (Haut de France)
DESCRIPTION:Réunion d’entrainement\n 
URL:https://clubattitudeplus.com/evenement/everest-villeneuve-dasq-haut-de-france-2/
LOCATION:Maison Blanchatte\, Rue Gaston Baratte n°71
ORGANIZER;CN="JP":MAILTO:franzen.jeanpaul@gmail.com
END:VEVENT
BEGIN:VEVENT
DTSTART;TZID=Europe/Brussels:20230617T190000
DTEND;TZID=Europe/Brussels:20230617T190000
DTSTAMP:20260423T144541
CREATED:20221005T142400Z
LAST-MODIFIED:20221005T151705Z
UID:1621-1687028400-1687028400@clubattitudeplus.com
SUMMARY:Energie   KAIN (Tournai)
DESCRIPTION:Réunion d’entrainement\n  \n 
URL:https://clubattitudeplus.com/evenement/energie-kain-tournai-6/
LOCATION:Kain\, Rue des Ecoles\, Kain\, 7540
ORGANIZER;CN="Richard":MAILTO:richard.huyghe@gmail.com
END:VEVENT
BEGIN:VEVENT
DTSTART;TZID=Europe/Brussels:20230617T190000
DTEND;TZID=Europe/Brussels:20230617T190000
DTSTAMP:20260423T144541
CREATED:20221007T141820Z
LAST-MODIFIED:20221007T141820Z
UID:1709-1687028400-1687028400@clubattitudeplus.com
SUMMARY:Rubra    St Saulves
DESCRIPTION:Réunion d’entrainement\n 
URL:https://clubattitudeplus.com/evenement/rubra-st-saulves-8/
LOCATION:Nouveau lieu à chaque réunion
ORGANIZER;CN="C%C3%A9cile":MAILTO:cecilh59@orange.fr
END:VEVENT
END:VCALENDAR