BEGIN:VCALENDAR
VERSION:2.0
PRODID:-//Club Attitude Plus - ECPv5.9.0//NONSGML v1.0//EN
CALSCALE:GREGORIAN
METHOD:PUBLISH
X-WR-CALNAME:Club Attitude Plus
X-ORIGINAL-URL:https://clubattitudeplus.com
X-WR-CALDESC:Events for Club Attitude Plus
BEGIN:VTIMEZONE
TZID:Europe/Brussels
BEGIN:DAYLIGHT
TZOFFSETFROM:+0100
TZOFFSETTO:+0200
TZNAME:CEST
DTSTART:20230326T010000
END:DAYLIGHT
BEGIN:STANDARD
TZOFFSETFROM:+0200
TZOFFSETTO:+0100
TZNAME:CET
DTSTART:20231029T010000
END:STANDARD
END:VTIMEZONE
BEGIN:VEVENT
DTSTART;TZID=Europe/Brussels:20231104T190000
DTEND;TZID=Europe/Brussels:20231104T230000
DTSTAMP:20260422T193519
CREATED:20231031T135901Z
LAST-MODIFIED:20231031T141620Z
UID:2098-1699124400-1699138800@clubattitudeplus.com
SUMMARY:Comment améliorer notre écoute
DESCRIPTION:Réunion d’entrainement  Groupe Etoilia   Tournai
URL:https://clubattitudeplus.com/evenement/comment-ameliorer-notre-ecoute/
LOCATION:Tournai\, Chaussée de Lille 479\, Orcq\, Belgium
ORGANIZER;CN="Maryline%20Deruyttere":MAILTO:maryline.deruyttere@gmail.com
END:VEVENT
END:VCALENDAR