BEGIN:VCALENDAR
VERSION:2.0
PRODID:-//Club Attitude Plus - ECPv5.9.0//NONSGML v1.0//EN
CALSCALE:GREGORIAN
METHOD:PUBLISH
X-WR-CALNAME:Club Attitude Plus
X-ORIGINAL-URL:https://clubattitudeplus.com
X-WR-CALDESC:Events for Club Attitude Plus
BEGIN:VTIMEZONE
TZID:Europe/Brussels
BEGIN:DAYLIGHT
TZOFFSETFROM:+0100
TZOFFSETTO:+0200
TZNAME:CEST
DTSTART:20240331T010000
END:DAYLIGHT
BEGIN:STANDARD
TZOFFSETFROM:+0200
TZOFFSETTO:+0100
TZNAME:CET
DTSTART:20241027T010000
END:STANDARD
END:VTIMEZONE
BEGIN:VEVENT
DTSTART;TZID=Europe/Brussels:20240106T190000
DTEND;TZID=Europe/Brussels:20240106T230000
DTSTAMP:20260422T111241
CREATED:20231106T152858Z
LAST-MODIFIED:20231204T071939Z
UID:2160-1704567600-1704582000@clubattitudeplus.com
SUMMARY:Stéréotypes et préjugés
DESCRIPTION:Réunion d’entrainement\nGroupe Etoilia\nTournai\nPass-gratuit accepté
URL:https://clubattitudeplus.com/evenement/stereotypes-et-prejuges/
LOCATION:Tournai\, Chaussée de Lille 479\, Orcq\, Belgium
ORGANIZER;CN="Maryline%20Deruyttere":MAILTO:maryline.deruyttere@gmail.com
END:VEVENT
END:VCALENDAR