BEGIN:VCALENDAR
VERSION:2.0
PRODID:-//Club Attitude Plus - ECPv5.9.0//NONSGML v1.0//EN
CALSCALE:GREGORIAN
METHOD:PUBLISH
X-WR-CALNAME:Club Attitude Plus
X-ORIGINAL-URL:https://clubattitudeplus.com
X-WR-CALDESC:Events for Club Attitude Plus
BEGIN:VTIMEZONE
TZID:Europe/Brussels
BEGIN:DAYLIGHT
TZOFFSETFROM:+0100
TZOFFSETTO:+0200
TZNAME:CEST
DTSTART:20240331T010000
END:DAYLIGHT
BEGIN:STANDARD
TZOFFSETFROM:+0200
TZOFFSETTO:+0100
TZNAME:CET
DTSTART:20241027T010000
END:STANDARD
END:VTIMEZONE
BEGIN:VEVENT
DTSTART;TZID=Europe/Brussels:20240226T190000
DTEND;TZID=Europe/Brussels:20240226T190000
DTSTAMP:20260422T032758
CREATED:20240207T094451Z
LAST-MODIFIED:20240207T094451Z
UID:2249-1708974000-1708974000@clubattitudeplus.com
SUMMARY:L' égo\, c'est quoi ?
DESCRIPTION:L’ego\, c’est la conscience et la représentation que j’ai de moi-même en tant que personne. \n  \nRéunion mensuelle \nGroupe Charlemagne \nLiers (Herstal)
URL:https://clubattitudeplus.com/evenement/l-ego-cest-quoi/
LOCATION:Liers\, 653 Chaussée Brunehaut 4042\, Liers - Herstal\, 4042\, Belgium
END:VEVENT
END:VCALENDAR