BEGIN:VCALENDAR
VERSION:2.0
PRODID:-//Club Attitude Plus - ECPv5.9.0//NONSGML v1.0//EN
CALSCALE:GREGORIAN
METHOD:PUBLISH
X-WR-CALNAME:Club Attitude Plus
X-ORIGINAL-URL:https://clubattitudeplus.com
X-WR-CALDESC:Events for Club Attitude Plus
BEGIN:VTIMEZONE
TZID:Europe/Brussels
BEGIN:DAYLIGHT
TZOFFSETFROM:+0100
TZOFFSETTO:+0200
TZNAME:CEST
DTSTART:20240331T010000
END:DAYLIGHT
BEGIN:STANDARD
TZOFFSETFROM:+0200
TZOFFSETTO:+0100
TZNAME:CET
DTSTART:20241027T010000
END:STANDARD
END:VTIMEZONE
BEGIN:VEVENT
DTSTART;TZID=Europe/Brussels:20240315T183000
DTEND;TZID=Europe/Brussels:20240315T230000
DTSTAMP:20260422T032537
CREATED:20240305T152129Z
LAST-MODIFIED:20240305T160847Z
UID:2272-1710527400-1710543600@clubattitudeplus.com
SUMMARY:La culpabilité\, le doute et le choix….
DESCRIPTION:Réunion mensuelle Elite
URL:https://clubattitudeplus.com/evenement/reunion-mensuelle-elite/
LOCATION:Mons\, Rue des Soeurs noires n°2\, 7000
ORGANIZER;CN="Fabienne":MAILTO:fabienne.corbolante@gmail.com
END:VEVENT
END:VCALENDAR