BEGIN:VCALENDAR
VERSION:2.0
PRODID:-//Club Attitude Plus - ECPv5.9.0//NONSGML v1.0//EN
CALSCALE:GREGORIAN
METHOD:PUBLISH
X-WR-CALNAME:Club Attitude Plus
X-ORIGINAL-URL:https://clubattitudeplus.com
X-WR-CALDESC:Events for Club Attitude Plus
BEGIN:VTIMEZONE
TZID:Europe/Brussels
BEGIN:DAYLIGHT
TZOFFSETFROM:+0100
TZOFFSETTO:+0200
TZNAME:CEST
DTSTART:20240331T010000
END:DAYLIGHT
BEGIN:STANDARD
TZOFFSETFROM:+0200
TZOFFSETTO:+0100
TZNAME:CET
DTSTART:20241027T010000
END:STANDARD
END:VTIMEZONE
BEGIN:VEVENT
DTSTART;TZID=Europe/Brussels:20240921T173000
DTEND;TZID=Europe/Brussels:20240921T223000
DTSTAMP:20260421T062703
CREATED:20240830T090503Z
LAST-MODIFIED:20240905T123216Z
UID:2398-1726939800-1726957800@clubattitudeplus.com
SUMMARY:Va vers toi - Tournai (Mourcourt) - Pass gratuit accepté
DESCRIPTION:Groupe Energie
URL:https://clubattitudeplus.com/evenement/vas-vers-toi-tournai-mourcourt/
LOCATION:Tournai (Mourcourt)\, rue du Vieux Comté\, 51\, Mourcourt\, 7543\, Belgium
ORGANIZER;CN="Jacqueline%20Dupont":MAILTO:jacleandebock@hotmail.com
END:VEVENT
END:VCALENDAR