BEGIN:VCALENDAR
VERSION:2.0
PRODID:-//Club Attitude Plus - ECPv5.9.0//NONSGML v1.0//EN
CALSCALE:GREGORIAN
METHOD:PUBLISH
X-WR-CALNAME:Club Attitude Plus
X-ORIGINAL-URL:https://clubattitudeplus.com
X-WR-CALDESC:Events for Club Attitude Plus
BEGIN:VTIMEZONE
TZID:Europe/Brussels
BEGIN:DAYLIGHT
TZOFFSETFROM:+0100
TZOFFSETTO:+0200
TZNAME:CEST
DTSTART:20240331T010000
END:DAYLIGHT
BEGIN:STANDARD
TZOFFSETFROM:+0200
TZOFFSETTO:+0100
TZNAME:CET
DTSTART:20241027T010000
END:STANDARD
END:VTIMEZONE
BEGIN:VEVENT
DTSTART;TZID=Europe/Brussels:20241007T183000
DTEND;TZID=Europe/Brussels:20241007T183000
DTSTAMP:20260421T031520
CREATED:20240916T124849Z
LAST-MODIFIED:20240916T124849Z
UID:2539-1728325800-1728325800@clubattitudeplus.com
SUMMARY:Je désencombre\, donc je m'allège - Herstal (Liers) - Pass gratuit accepté
DESCRIPTION:Groupe Charlemagne\n\n  \n  \n  \n 
URL:https://clubattitudeplus.com/evenement/je-desencombre-donc-je-mallege-herstal-liers-pass-gratuit-accepte/
LOCATION:Liers\, 653 Chaussée Brunehaut 4042\, Liers - Herstal\, 4042\, Belgium
ORGANIZER;CN="V%C3%A9ro%20Hoffer":MAILTO:verohoffer@gmail.com
END:VEVENT
END:VCALENDAR