BEGIN:VCALENDAR
VERSION:2.0
PRODID:-//Club Attitude Plus - ECPv5.9.0//NONSGML v1.0//EN
CALSCALE:GREGORIAN
METHOD:PUBLISH
X-WR-CALNAME:Club Attitude Plus
X-ORIGINAL-URL:https://clubattitudeplus.com
X-WR-CALDESC:Events for Club Attitude Plus
BEGIN:VTIMEZONE
TZID:Europe/Brussels
BEGIN:DAYLIGHT
TZOFFSETFROM:+0100
TZOFFSETTO:+0200
TZNAME:CEST
DTSTART:20240331T010000
END:DAYLIGHT
BEGIN:STANDARD
TZOFFSETFROM:+0200
TZOFFSETTO:+0100
TZNAME:CET
DTSTART:20241027T010000
END:STANDARD
END:VTIMEZONE
BEGIN:VEVENT
DTSTART;TZID=Europe/Brussels:20241012T183000
DTEND;TZID=Europe/Brussels:20241012T223000
DTSTAMP:20260421T031836
CREATED:20240830T084427Z
LAST-MODIFIED:20240905T123626Z
UID:2389-1728757800-1728772200@clubattitudeplus.com
SUMMARY:La visualisation créatrice - Tournai (Kain) - Pass gratuit accepté
DESCRIPTION:Groupe Etoilia
URL:https://clubattitudeplus.com/evenement/la-visualisation-creatrice/
LOCATION:Espace Libre\, Rue des Ecoles 17\, 7540 Tournai (Kain)\, 7540\, Belgium
ORGANIZER;CN="Jean-Yves%20Renard":MAILTO:jeanyvesrenard@yahoo.fr
END:VEVENT
END:VCALENDAR