BEGIN:VCALENDAR
VERSION:2.0
PRODID:-//Club Attitude Plus - ECPv5.9.0//NONSGML v1.0//EN
CALSCALE:GREGORIAN
METHOD:PUBLISH
X-WR-CALNAME:Club Attitude Plus
X-ORIGINAL-URL:https://clubattitudeplus.com
X-WR-CALDESC:Events for Club Attitude Plus
BEGIN:VTIMEZONE
TZID:Europe/Brussels
BEGIN:DAYLIGHT
TZOFFSETFROM:+0100
TZOFFSETTO:+0200
TZNAME:CEST
DTSTART:20250330T010000
END:DAYLIGHT
BEGIN:STANDARD
TZOFFSETFROM:+0200
TZOFFSETTO:+0100
TZNAME:CET
DTSTART:20251026T010000
END:STANDARD
END:VTIMEZONE
BEGIN:VEVENT
DTSTART;TZID=Europe/Brussels:20250416T190000
DTEND;TZID=Europe/Brussels:20250416T223000
DTSTAMP:20260420T060707
CREATED:20250305T194026Z
LAST-MODIFIED:20250305T194026Z
UID:2761-1744830000-1744842600@clubattitudeplus.com
SUMMARY:Culturez-moi - Flémalle - Pass gratuit accepté
DESCRIPTION:Groupe Légia\nConférence de Michel Lapaglia
URL:https://clubattitudeplus.com/evenement/culturez-moi-flemalle-pass-gratuit-accepte/
LOCATION:Salle du Comité des Fêtes\, Route de Souxhon\, 210\, Flémalle\, 4400\, Belgium
ORGANIZER;CN="Rosa%20Lentini":MAILTO:rosalentini@yahoo.fr
END:VEVENT
END:VCALENDAR