BEGIN:VCALENDAR
VERSION:2.0
PRODID:-//Club Attitude Plus - ECPv5.9.0//NONSGML v1.0//EN
CALSCALE:GREGORIAN
METHOD:PUBLISH
X-WR-CALNAME:Club Attitude Plus
X-ORIGINAL-URL:https://clubattitudeplus.com
X-WR-CALDESC:Events for Club Attitude Plus
BEGIN:VTIMEZONE
TZID:Europe/Brussels
BEGIN:DAYLIGHT
TZOFFSETFROM:+0100
TZOFFSETTO:+0200
TZNAME:CEST
DTSTART:20230326T010000
END:DAYLIGHT
BEGIN:STANDARD
TZOFFSETFROM:+0200
TZOFFSETTO:+0100
TZNAME:CET
DTSTART:20231029T010000
END:STANDARD
END:VTIMEZONE
BEGIN:VEVENT
DTSTART;TZID=Europe/Brussels:20230401T190000
DTEND;TZID=Europe/Brussels:20230401T190000
DTSTAMP:20260423T181216
CREATED:20221007T141701Z
LAST-MODIFIED:20221007T141701Z
UID:1705-1680375600-1680375600@clubattitudeplus.com
SUMMARY:Rubra    St Saulves
DESCRIPTION:Réunion d’entrainement\n 
URL:https://clubattitudeplus.com/evenement/rubra-st-saulves-6/
LOCATION:Nouveau lieu à chaque réunion
ORGANIZER;CN="C%C3%A9cile":MAILTO:cecilh59@orange.fr
END:VEVENT
BEGIN:VEVENT
DTSTART;TZID=Europe/Brussels:20230408T190000
DTEND;TZID=Europe/Brussels:20230408T190000
DTSTAMP:20260423T181216
CREATED:20221005T151129Z
LAST-MODIFIED:20221005T151129Z
UID:1644-1680980400-1680980400@clubattitudeplus.com
SUMMARY:Etoilia   ORCQ (Tournai)
DESCRIPTION:Réunion d’entrainement\nThème du jour:\nComment appréhender l’avenir\, face à la maladie ? ( A confirmer) \n  \n 
URL:https://clubattitudeplus.com/evenement/etoilia-orcq-tournai-6/
LOCATION:ORCQ\, Chaussée de Lille 475/2\, ORCQ\, 7501
ORGANIZER;CN="Agn%C3%A9s%20Hannard":MAILTO:agneshannard@hotmail.com
END:VEVENT
BEGIN:VEVENT
DTSTART;TZID=Europe/Brussels:20230417T183000
DTEND;TZID=Europe/Brussels:20230417T230000
DTSTAMP:20260423T181216
CREATED:20221004T134825Z
LAST-MODIFIED:20221004T134825Z
UID:1566-1681756200-1681772400@clubattitudeplus.com
SUMMARY:Charlemagne     Herstal    (Liège)
DESCRIPTION:Réunion d’entrainement\n 
URL:https://clubattitudeplus.com/evenement/charlemagne-herstal-liege-4/
LOCATION:Herstal\, Rue St Lambert n° 40\, Herstal\, Liege\, 4040\, Belgium
ORGANIZER;CN="L%C3%A9ona":MAILTO:thunissen_leona@hotmail.com
END:VEVENT
BEGIN:VEVENT
DTSTART;TZID=Europe/Brussels:20230419T190000
DTEND;TZID=Europe/Brussels:20230419T190000
DTSTAMP:20260423T181216
CREATED:20221007T132926Z
LAST-MODIFIED:20221007T132926Z
UID:1662-1681930800-1681930800@clubattitudeplus.com
SUMMARY:Légia    Flémalle    (Liège)
DESCRIPTION:Réunion d’entrainement\n 
URL:https://clubattitudeplus.com/evenement/legia-flemalle-liege-5/
LOCATION:Salle du Quartier\,\, Route de Souxhon\, 210\, 4400 Flemalle
ORGANIZER;CN="F%C3%A9lix":MAILTO:felixscibona@gmail.com
END:VEVENT
BEGIN:VEVENT
DTSTART;TZID=Europe/Brussels:20230421T190000
DTEND;TZID=Europe/Brussels:20230421T190000
DTSTAMP:20260423T181216
CREATED:20221004T131459Z
LAST-MODIFIED:20221004T131459Z
UID:1546-1682103600-1682103600@clubattitudeplus.com
SUMMARY:Everest   Villeneuve d'Asq (Haut de France)
DESCRIPTION:Réunion d’entrainement\n 
URL:https://clubattitudeplus.com/evenement/everest-villeneuve-dasq-haut-de-france-15/
LOCATION:Maison Blanchatte\, Rue Gaston Baratte n°71
ORGANIZER;CN="JP":MAILTO:franzen.jeanpaul@gmail.com
END:VEVENT
BEGIN:VEVENT
DTSTART;TZID=Europe/Brussels:20230421T190000
DTEND;TZID=Europe/Brussels:20230421T190000
DTSTAMP:20260423T181216
CREATED:20221007T134323Z
LAST-MODIFIED:20221007T134323Z
UID:1685-1682103600-1682103600@clubattitudeplus.com
SUMMARY:Rondia    Amay    (Huy)
DESCRIPTION:Réunion d’entrainement\n 
URL:https://clubattitudeplus.com/evenement/rondia-amay-huy-7/
LOCATION:Espace Ste Ode Amay\, 47 Chaussée Roosevelt\, 4450 Amay
ORGANIZER;CN="Janique":MAILTO:jeannebertrand@hotmail.com
END:VEVENT
BEGIN:VEVENT
DTSTART;TZID=Europe/Brussels:20230421T190000
DTEND;TZID=Europe/Brussels:20230421T230000
DTSTAMP:20260423T181216
CREATED:20221004T140425Z
LAST-MODIFIED:20221004T141537Z
UID:1588-1682103600-1682118000@clubattitudeplus.com
SUMMARY:Elite   Quaregnon
DESCRIPTION:Réunion d’entrainement\n  \n 
URL:https://clubattitudeplus.com/evenement/elite-quaregnon-5/
LOCATION:Maison des Associations\, rue de Monsville 177\, Quaregnon\, 7390\, Belgium
ORGANIZER;CN="Kathy%20Meuter":MAILTO:kathy.meuter@skynet.be
END:VEVENT
BEGIN:VEVENT
DTSTART;TZID=Europe/Brussels:20230428T190000
DTEND;TZID=Europe/Brussels:20230428T190000
DTSTAMP:20260423T181216
CREATED:20221007T142837Z
LAST-MODIFIED:20221007T142837Z
UID:1724-1682708400-1682708400@clubattitudeplus.com
SUMMARY:Zenith     Quaregnon      (Mons)
DESCRIPTION:Réunion d’entrainement\n 
URL:https://clubattitudeplus.com/evenement/zenith-quaregnon-mons-7/
LOCATION:Maison des Associations\, rue de Monsville 177\, Quaregnon\, 7390\, Belgium
ORGANIZER;CN="Christine":MAILTO:EJL88@outlook.com
END:VEVENT
BEGIN:VEVENT
DTSTART;TZID=Europe/Brussels:20230429T190000
DTEND;TZID=Europe/Brussels:20230429T230000
DTSTAMP:20260423T181216
CREATED:20221005T142244Z
LAST-MODIFIED:20221005T142244Z
UID:1617-1682794800-1682809200@clubattitudeplus.com
SUMMARY:Energie   KAIN (Tournai)
DESCRIPTION:Réunion d’entrainement\n  \n 
URL:https://clubattitudeplus.com/evenement/energie-kain-tournai-4/
LOCATION:Kain\, Rue des Ecoles\, Kain\, 7540
ORGANIZER;CN="Richard":MAILTO:richard.huyghe@gmail.com
END:VEVENT
END:VCALENDAR