BEGIN:VCALENDAR
VERSION:2.0
PRODID:-//Club Attitude Plus - ECPv5.9.0//NONSGML v1.0//EN
CALSCALE:GREGORIAN
METHOD:PUBLISH
X-WR-CALNAME:Club Attitude Plus
X-ORIGINAL-URL:https://clubattitudeplus.com
X-WR-CALDESC:Events for Club Attitude Plus
BEGIN:VTIMEZONE
TZID:Europe/Brussels
BEGIN:DAYLIGHT
TZOFFSETFROM:+0100
TZOFFSETTO:+0200
TZNAME:CEST
DTSTART:20230326T010000
END:DAYLIGHT
BEGIN:STANDARD
TZOFFSETFROM:+0200
TZOFFSETTO:+0100
TZNAME:CET
DTSTART:20231029T010000
END:STANDARD
END:VTIMEZONE
BEGIN:VEVENT
DTSTART;TZID=Europe/Brussels:20230603T000000
DTEND;TZID=Europe/Brussels:20230603T000000
DTSTAMP:20260423T105942
CREATED:20221005T151322Z
LAST-MODIFIED:20221005T151322Z
UID:1648-1685750400-1685750400@clubattitudeplus.com
SUMMARY:Etoilia   ORCQ (Tournai)
DESCRIPTION:Réunion d’entrainement\nThème du jour:\nElections \n 
URL:https://clubattitudeplus.com/evenement/etoilia-orcq-tournai-8/
LOCATION:ORCQ\, Chaussée de Lille 475/2\, ORCQ\, 7501
ORGANIZER;CN="Agn%C3%A9s%20Hannard":MAILTO:agneshannard@hotmail.com
END:VEVENT
BEGIN:VEVENT
DTSTART;TZID=Europe/Brussels:20230609T190000
DTEND;TZID=Europe/Brussels:20230609T190000
DTSTAMP:20260423T105942
CREATED:20221007T142940Z
LAST-MODIFIED:20221007T142940Z
UID:1729-1686337200-1686337200@clubattitudeplus.com
SUMMARY:Zenith     Quaregnon      (Mons)
DESCRIPTION:Réunion d’entrainement\n 
URL:https://clubattitudeplus.com/evenement/zenith-quaregnon-mons-9/
LOCATION:Maison des Associations\, rue de Monsville 177\, Quaregnon\, 7390\, Belgium
ORGANIZER;CN="Christine":MAILTO:EJL88@outlook.com
END:VEVENT
BEGIN:VEVENT
DTSTART;TZID=Europe/Brussels:20230616T190000
DTEND;TZID=Europe/Brussels:20230616T230000
DTSTAMP:20260423T105942
CREATED:20221004T140518Z
LAST-MODIFIED:20221004T142924Z
UID:1592-1686942000-1686956400@clubattitudeplus.com
SUMMARY:Elite   Quaregnon
DESCRIPTION:Réunion d’entrainement\n  \n 
URL:https://clubattitudeplus.com/evenement/elite-quaregnon-7/
LOCATION:Maison des Associations\, rue de Monsville 177\, Quaregnon\, 7390\, Belgium
ORGANIZER;CN="Kathy%20Meuter":MAILTO:kathy.meuter@skynet.be
END:VEVENT
BEGIN:VEVENT
DTSTART;TZID=Europe/Brussels:20230617T140000
DTEND;TZID=Europe/Brussels:20230618T190000
DTSTAMP:20260423T105942
CREATED:20221004T143449Z
LAST-MODIFIED:20221004T143449Z
UID:1602-1687010400-1687114800@clubattitudeplus.com
SUMMARY:Everest   Villeneuve d'Asq (Haut de France)
DESCRIPTION:Réunion d’entrainement\n 
URL:https://clubattitudeplus.com/evenement/everest-villeneuve-dasq-haut-de-france-2/
LOCATION:Maison Blanchatte\, Rue Gaston Baratte n°71
ORGANIZER;CN="JP":MAILTO:franzen.jeanpaul@gmail.com
END:VEVENT
BEGIN:VEVENT
DTSTART;TZID=Europe/Brussels:20230617T190000
DTEND;TZID=Europe/Brussels:20230617T190000
DTSTAMP:20260423T105942
CREATED:20221005T142400Z
LAST-MODIFIED:20221005T151705Z
UID:1621-1687028400-1687028400@clubattitudeplus.com
SUMMARY:Energie   KAIN (Tournai)
DESCRIPTION:Réunion d’entrainement\n  \n 
URL:https://clubattitudeplus.com/evenement/energie-kain-tournai-6/
LOCATION:Kain\, Rue des Ecoles\, Kain\, 7540
ORGANIZER;CN="Richard":MAILTO:richard.huyghe@gmail.com
END:VEVENT
BEGIN:VEVENT
DTSTART;TZID=Europe/Brussels:20230617T190000
DTEND;TZID=Europe/Brussels:20230617T190000
DTSTAMP:20260423T105942
CREATED:20221007T141820Z
LAST-MODIFIED:20221007T141820Z
UID:1709-1687028400-1687028400@clubattitudeplus.com
SUMMARY:Rubra    St Saulves
DESCRIPTION:Réunion d’entrainement\n 
URL:https://clubattitudeplus.com/evenement/rubra-st-saulves-8/
LOCATION:Nouveau lieu à chaque réunion
ORGANIZER;CN="C%C3%A9cile":MAILTO:cecilh59@orange.fr
END:VEVENT
BEGIN:VEVENT
DTSTART;TZID=Europe/Brussels:20230621T190000
DTEND;TZID=Europe/Brussels:20230621T190000
DTSTAMP:20260423T105942
CREATED:20221007T133018Z
LAST-MODIFIED:20221007T133018Z
UID:1666-1687374000-1687374000@clubattitudeplus.com
SUMMARY:Légia    Flémalle    (Liège)
DESCRIPTION:Réunion d’entrainement\n 
URL:https://clubattitudeplus.com/evenement/legia-flemalle-liege-7/
LOCATION:Salle du Quartier\,\, Route de Souxhon\, 210\, 4400 Flemalle
ORGANIZER;CN="F%C3%A9lix":MAILTO:felixscibona@gmail.com
END:VEVENT
BEGIN:VEVENT
DTSTART;VALUE=DATE:20230624
DTEND;VALUE=DATE:20230625
DTSTAMP:20260423T105942
CREATED:20220330T084449Z
LAST-MODIFIED:20221007T144235Z
UID:1324-1687564800-1687651199@clubattitudeplus.com
SUMMARY:Assemblée Générale
DESCRIPTION:Assemblée Générale
URL:https://clubattitudeplus.com/evenement/assemblee-generale/
LOCATION:Casteau
END:VEVENT
END:VCALENDAR