BEGIN:VCALENDAR
VERSION:2.0
PRODID:-//Club Attitude Plus - ECPv5.9.0//NONSGML v1.0//EN
CALSCALE:GREGORIAN
METHOD:PUBLISH
X-WR-CALNAME:Club Attitude Plus
X-ORIGINAL-URL:https://clubattitudeplus.com
X-WR-CALDESC:Events for Club Attitude Plus
BEGIN:VTIMEZONE
TZID:Europe/Brussels
BEGIN:DAYLIGHT
TZOFFSETFROM:+0100
TZOFFSETTO:+0200
TZNAME:CEST
DTSTART:20230326T010000
END:DAYLIGHT
BEGIN:STANDARD
TZOFFSETFROM:+0200
TZOFFSETTO:+0100
TZNAME:CET
DTSTART:20231029T010000
END:STANDARD
END:VTIMEZONE
BEGIN:VEVENT
DTSTART;TZID=Europe/Brussels:20231009T190000
DTEND;TZID=Europe/Brussels:20231009T223000
DTSTAMP:20260422T193212
CREATED:20230928T143810Z
LAST-MODIFIED:20230928T143821Z
UID:2043-1696878000-1696890600@clubattitudeplus.com
SUMMARY:Réunion d'entrainement chez Charlemagne  Liers-Herstal
DESCRIPTION:
URL:https://clubattitudeplus.com/evenement/reunion-dentrainement-chez-charlemagne-liers-herstal/
LOCATION:Liers\, 653 Chaussée Brunehaut 4042\, Liers - Herstal\, 4042\, Belgium
ORGANIZER;CN="V%C3%A9ro%20Hoffer":MAILTO:verohoffer@gmail.com
END:VEVENT
BEGIN:VEVENT
DTSTART;TZID=Europe/Brussels:20231019T190000
DTEND;TZID=Europe/Brussels:20231019T220000
DTSTAMP:20260422T193213
CREATED:20230929T173730Z
LAST-MODIFIED:20231031T100854Z
UID:2060-1697742000-1697752800@clubattitudeplus.com
SUMMARY:Réunion d'entrainement chez Colibri
DESCRIPTION:Thème: Le pouvoir de la Gratitude
URL:https://clubattitudeplus.com/evenement/reunion-dentrainement-chez-colibri/
LOCATION:Salle Gotha Cosy\, Rue Simon Radoux n° 19\, Liège\, 4000
ORGANIZER;CN="Marie%20Nix":MAILTO:Marie.nix4600@gmail.com
END:VEVENT
BEGIN:VEVENT
DTSTART;TZID=Europe/Brussels:20231021T190000
DTEND;TZID=Europe/Brussels:20231021T230000
DTSTAMP:20260422T193213
CREATED:20230928T144301Z
LAST-MODIFIED:20230928T144338Z
UID:2046-1697914800-1697929200@clubattitudeplus.com
SUMMARY:Réunion d'entrainement chez Energie
DESCRIPTION:Besoin – Désir – Motivation – Faux besoin\nCa te parle ?
URL:https://clubattitudeplus.com/evenement/reunion-dentrainement-chez-energie/
ORGANIZER;CN="Richard":MAILTO:richard.huyghe@gmail.com
END:VEVENT
END:VCALENDAR