BEGIN:VCALENDAR
VERSION:2.0
PRODID:-//Club Attitude Plus - ECPv5.9.0//NONSGML v1.0//EN
CALSCALE:GREGORIAN
METHOD:PUBLISH
X-WR-CALNAME:Club Attitude Plus
X-ORIGINAL-URL:https://clubattitudeplus.com
X-WR-CALDESC:Events for Club Attitude Plus
BEGIN:VTIMEZONE
TZID:Europe/Brussels
BEGIN:DAYLIGHT
TZOFFSETFROM:+0100
TZOFFSETTO:+0200
TZNAME:CEST
DTSTART:20240331T010000
END:DAYLIGHT
BEGIN:STANDARD
TZOFFSETFROM:+0200
TZOFFSETTO:+0100
TZNAME:CET
DTSTART:20241027T010000
END:STANDARD
END:VTIMEZONE
BEGIN:VEVENT
DTSTART;TZID=Europe/Brussels:20240106T190000
DTEND;TZID=Europe/Brussels:20240106T230000
DTSTAMP:20260422T072530
CREATED:20231106T152858Z
LAST-MODIFIED:20231204T071939Z
UID:2160-1704567600-1704582000@clubattitudeplus.com
SUMMARY:Stéréotypes et préjugés
DESCRIPTION:Réunion d’entrainement\nGroupe Etoilia\nTournai\nPass-gratuit accepté
URL:https://clubattitudeplus.com/evenement/stereotypes-et-prejuges/
LOCATION:Tournai\, Chaussée de Lille 479\, Orcq\, Belgium
ORGANIZER;CN="Maryline%20Deruyttere":MAILTO:maryline.deruyttere@gmail.com
END:VEVENT
BEGIN:VEVENT
DTSTART;TZID=Europe/Brussels:20240108T183000
DTEND;TZID=Europe/Brussels:20240108T183000
DTSTAMP:20260422T072530
CREATED:20231110T084534Z
LAST-MODIFIED:20231204T073015Z
UID:2183-1704738600-1704738600@clubattitudeplus.com
SUMMARY:J’écoute mieux\, donc je communique mieux
DESCRIPTION:Une bonne écoute permet d’engager une communication à la fois efficace et agissante \nRéunion d’entrainement\nGroupe Charlemagne\nLiers (Herstal)\nPass-gratuit accepté
URL:https://clubattitudeplus.com/evenement/jecoute-mieux-donc-je-communique-mieux/
LOCATION:Liers\, 653 Chaussée Brunehaut 4042\, Liers - Herstal\, 4042\, Belgium
ORGANIZER;CN="Gis%C3%A8le%20Rode":MAILTO:contact@clubattitudeplus.com
END:VEVENT
BEGIN:VEVENT
DTSTART;TZID=Europe/Brussels:20240117T190000
DTEND;TZID=Europe/Brussels:20240117T190000
DTSTAMP:20260422T072530
CREATED:20231106T143137Z
LAST-MODIFIED:20231204T072250Z
UID:2124-1705518000-1705518000@clubattitudeplus.com
SUMMARY:Jusqu’où va la tolérance\, quand commence l’intolérance
DESCRIPTION:La tolérance s’arrête aux limites de l’acceptable\n  \nRéunion d’entrainement\nGroupe Légia\nFlémalle\nPass-gratuit accepté
URL:https://clubattitudeplus.com/evenement/jusquou-va-la-tolerance-quand-commence-lintolerance/
LOCATION:Salle du Quartier\,\, Route de Souxhon\, 210\, 4400 Flemalle
ORGANIZER;CN="Josiane%20Poumay":MAILTO:jojoweick@gmail.ccom
END:VEVENT
BEGIN:VEVENT
DTSTART;TZID=Europe/Brussels:20240120T190000
DTEND;TZID=Europe/Brussels:20240120T230000
DTSTAMP:20260422T072530
CREATED:20231106T150208Z
LAST-MODIFIED:20231204T072358Z
UID:2141-1705777200-1705791600@clubattitudeplus.com
SUMMARY:Je reconnais mes émotions et je les apprivoise
DESCRIPTION:Réunion d’entrainement\nGroupe Energie\nTournai\nPass-gratuit accepté \n 
URL:https://clubattitudeplus.com/evenement/je-reconnais-mes-emotions-et-je-les-apprivoise/
LOCATION:Rue du vert lion\, au-dessus de la piscine 7540 KAIN\, Rue du vert lion\, au-dessus de la piscine\, KAIN\, 7540
ORGANIZER;CN="Richard%20Huyghe":MAILTO:richard.huygue@gmail.com
END:VEVENT
END:VCALENDAR