BEGIN:VCALENDAR
VERSION:2.0
PRODID:-//Club Attitude Plus - ECPv5.9.0//NONSGML v1.0//EN
CALSCALE:GREGORIAN
METHOD:PUBLISH
X-WR-CALNAME:Club Attitude Plus
X-ORIGINAL-URL:https://clubattitudeplus.com
X-WR-CALDESC:Events for Club Attitude Plus
BEGIN:VTIMEZONE
TZID:Europe/Brussels
BEGIN:DAYLIGHT
TZOFFSETFROM:+0100
TZOFFSETTO:+0200
TZNAME:CEST
DTSTART:20240331T010000
END:DAYLIGHT
BEGIN:STANDARD
TZOFFSETFROM:+0200
TZOFFSETTO:+0100
TZNAME:CET
DTSTART:20241027T010000
END:STANDARD
END:VTIMEZONE
BEGIN:VEVENT
DTSTART;TZID=Europe/Brussels:20240221T190000
DTEND;TZID=Europe/Brussels:20240221T190000
DTSTAMP:20260422T032040
CREATED:20231106T143455Z
LAST-MODIFIED:20240207T093952Z
UID:2126-1708542000-1708542000@clubattitudeplus.com
SUMMARY:Jusqu'ou va la tolérance\, quand commence l'intolérance ?
DESCRIPTION:Prendre conscience que nous avons tous un seuil de tolérance\n  \nRéunion mensuelle\nGroupe Légia\nFlémalle\nPass-gratuit accepté
URL:https://clubattitudeplus.com/evenement/les-obstacles-de-la-vie-le-pardon-pour-qui-pourquoi/
LOCATION:Salle du Quartier\,\, Route de Souxhon\, 210\, 4400 Flemalle
ORGANIZER;CN="Josiane%20Poumay":MAILTO:jojoweick@gmail.ccom
END:VEVENT
BEGIN:VEVENT
DTSTART;TZID=Europe/Brussels:20240222T190000
DTEND;TZID=Europe/Brussels:20240222T223000
DTSTAMP:20260422T032040
CREATED:20240207T100006Z
LAST-MODIFIED:20240207T100006Z
UID:2253-1708628400-1708641000@clubattitudeplus.com
SUMMARY:Je découvre qui je suis par l'introspection
DESCRIPTION:L’introspection désigne le fait de regarder à l’intérieur de soi. Cette méthode d’observation et d’analyse est importante pour notre bonheur.\n  \nRéunion mensuelle\nGroupe Colibri\nLiège  (Burenville)\nPass-gratuit accepté
URL:https://clubattitudeplus.com/evenement/je-decouvre-qui-je-suis-par-lintrospection/
LOCATION:Salle Gotha Cosy\, Rue Simon Radoux n° 19\, Liège\, 4000
ORGANIZER;CN="Marie%20Nix":MAILTO:Marie.nix4600@gmail.com
END:VEVENT
BEGIN:VEVENT
DTSTART;TZID=Europe/Brussels:20240226T190000
DTEND;TZID=Europe/Brussels:20240226T190000
DTSTAMP:20260422T032040
CREATED:20240207T094451Z
LAST-MODIFIED:20240207T094451Z
UID:2249-1708974000-1708974000@clubattitudeplus.com
SUMMARY:L' égo\, c'est quoi ?
DESCRIPTION:L’ego\, c’est la conscience et la représentation que j’ai de moi-même en tant que personne. \n  \nRéunion mensuelle \nGroupe Charlemagne \nLiers (Herstal)
URL:https://clubattitudeplus.com/evenement/l-ego-cest-quoi/
LOCATION:Liers\, 653 Chaussée Brunehaut 4042\, Liers - Herstal\, 4042\, Belgium
END:VEVENT
END:VCALENDAR