BEGIN:VCALENDAR
VERSION:2.0
PRODID:-//Club Attitude Plus - ECPv5.9.0//NONSGML v1.0//EN
CALSCALE:GREGORIAN
METHOD:PUBLISH
X-WR-CALNAME:Club Attitude Plus
X-ORIGINAL-URL:https://clubattitudeplus.com
X-WR-CALDESC:Events for Club Attitude Plus
BEGIN:VTIMEZONE
TZID:Europe/Brussels
BEGIN:DAYLIGHT
TZOFFSETFROM:+0100
TZOFFSETTO:+0200
TZNAME:CEST
DTSTART:20240331T010000
END:DAYLIGHT
BEGIN:STANDARD
TZOFFSETFROM:+0200
TZOFFSETTO:+0100
TZNAME:CET
DTSTART:20241027T010000
END:STANDARD
END:VTIMEZONE
BEGIN:VEVENT
DTSTART;TZID=Europe/Brussels:20240417T190000
DTEND;TZID=Europe/Brussels:20240417T190000
DTSTAMP:20260421T200607
CREATED:20231106T144018Z
LAST-MODIFIED:20240207T100446Z
UID:2132-1713380400-1713380400@clubattitudeplus.com
SUMMARY:L’hypersensibilité.
DESCRIPTION:L’hypersensibilité émotionnelle se définit par le fait de réagir de façon excessive aux stimuli émotionnels.\n  \nRéunion mensuelle\nGroupe Légia\nFlémalle\nPass-gratuit accepté
URL:https://clubattitudeplus.com/evenement/lhypersensibilite/
LOCATION:Salle du Quartier\,\, Route de Souxhon\, 210\, 4400 Flemalle
ORGANIZER;CN="Josiane%20Poumay":MAILTO:jojoweick@gmail.ccom
END:VEVENT
BEGIN:VEVENT
DTSTART;TZID=Europe/Brussels:20240419T183000
DTEND;TZID=Europe/Brussels:20240419T230000
DTSTAMP:20260421T200607
CREATED:20240305T152337Z
LAST-MODIFIED:20240305T161049Z
UID:2276-1713551400-1713567600@clubattitudeplus.com
SUMMARY:Se relever après un échec...
DESCRIPTION:La seule personne qui peut t’aider\, c’est toi \n  \nRéunion mensuelle Elite
URL:https://clubattitudeplus.com/evenement/reunion-mensuelle-elite-2/
LOCATION:Mons\, Rue des Soeurs noires n°2\, 7000
ORGANIZER;CN="Fabienne":MAILTO:fabienne.corbolante@gmail.com
END:VEVENT
END:VCALENDAR