BEGIN:VCALENDAR
VERSION:2.0
PRODID:-//Club Attitude Plus - ECPv5.9.0//NONSGML v1.0//EN
CALSCALE:GREGORIAN
METHOD:PUBLISH
X-WR-CALNAME:Club Attitude Plus
X-ORIGINAL-URL:https://clubattitudeplus.com
X-WR-CALDESC:Events for Club Attitude Plus
BEGIN:VTIMEZONE
TZID:Europe/Brussels
BEGIN:DAYLIGHT
TZOFFSETFROM:+0100
TZOFFSETTO:+0200
TZNAME:CEST
DTSTART:20240331T010000
END:DAYLIGHT
BEGIN:STANDARD
TZOFFSETFROM:+0200
TZOFFSETTO:+0100
TZNAME:CET
DTSTART:20241027T010000
END:STANDARD
END:VTIMEZONE
BEGIN:VEVENT
DTSTART;TZID=Europe/Brussels:20240909T183000
DTEND;TZID=Europe/Brussels:20240909T223000
DTSTAMP:20260421T031519
CREATED:20240902T215645Z
LAST-MODIFIED:20240905T120203Z
UID:2416-1725906600-1725921000@clubattitudeplus.com
SUMMARY:Que cachent nos peurs ? Herstal (Liers) - Pass gratuit accepté
DESCRIPTION:Groupe Charlemagne\nLa peur est une émotion souvent perçue comme négative.. et pourtant\n  \n  \n  \n 
URL:https://clubattitudeplus.com/evenement/que-cachent-nos-peurs-herstal-liers/
LOCATION:Liers\, 653 Chaussée Brunehaut 4042\, Liers - Herstal\, 4042\, Belgium
ORGANIZER;CN="V%C3%A9ro%20Hoffer":MAILTO:verohoffer@gmail.com
END:VEVENT
BEGIN:VEVENT
DTSTART;TZID=Europe/Brussels:20240914T183000
DTEND;TZID=Europe/Brussels:20240914T230000
DTSTAMP:20260421T031519
CREATED:20240830T084130Z
LAST-MODIFIED:20240905T120058Z
UID:2387-1726338600-1726354800@clubattitudeplus.com
SUMMARY:Je donne vie à mes rêves - Tournai (Kain) - Pass gratuit accepté
DESCRIPTION:Groupe Etoilia\nRéfléchissons ensemble à comment donner vie à nos rêves.\nNotre but?  Progresser ensemble dans la bienveillance
URL:https://clubattitudeplus.com/evenement/je-realise-mes-reves-tournai-kain/
LOCATION:Espace Libre\, Rue des Ecoles 17\, 7540 Tournai (Kain)\, 7540\, Belgium
ORGANIZER;CN="Jean-Yves%20Renard":MAILTO:jeanyvesrenard@yahoo.fr
END:VEVENT
BEGIN:VEVENT
DTSTART;TZID=Europe/Brussels:20240918T190000
DTEND;TZID=Europe/Brussels:20240918T223000
DTSTAMP:20260421T031519
CREATED:20240902T215116Z
LAST-MODIFIED:20240905T194332Z
UID:2435-1726686000-1726698600@clubattitudeplus.com
SUMMARY:S'exprimer de manière constructive - Flémalle - Pass gratuit accepté
DESCRIPTION:Groupe Légia
URL:https://clubattitudeplus.com/evenement/sexprimer-de-maniere-constructive/
LOCATION:Salle du Comité des Fêtes\, Route de Souxhon\, 210\, Flémalle\, 4400\, Belgium
ORGANIZER;CN="Rosa%20Lentini":MAILTO:rosalentini@yahoo.fr
END:VEVENT
BEGIN:VEVENT
DTSTART;TZID=Europe/Brussels:20240920T180000
DTEND;TZID=Europe/Brussels:20240920T223000
DTSTAMP:20260421T031519
CREATED:20240902T214028Z
LAST-MODIFIED:20240905T123050Z
UID:2427-1726855200-1726871400@clubattitudeplus.com
SUMMARY:Les essentiels de la communication - Roncq - Pass gratuit accepté
DESCRIPTION:Groupe Everest
URL:https://clubattitudeplus.com/evenement/les-essentiels-de-la-communication/
LOCATION:Roncq\, rue Jules Watteeuw\, Roncq\, 59223\, France
ORGANIZER;CN="H%C3%A9l%C3%A8ne%20Jourdain":MAILTO:helene.jourdain1986@gmail.com
END:VEVENT
BEGIN:VEVENT
DTSTART;TZID=Europe/Brussels:20240921T173000
DTEND;TZID=Europe/Brussels:20240921T223000
DTSTAMP:20260421T031519
CREATED:20240830T090503Z
LAST-MODIFIED:20240905T123216Z
UID:2398-1726939800-1726957800@clubattitudeplus.com
SUMMARY:Va vers toi - Tournai (Mourcourt) - Pass gratuit accepté
DESCRIPTION:Groupe Energie
URL:https://clubattitudeplus.com/evenement/vas-vers-toi-tournai-mourcourt/
LOCATION:Tournai (Mourcourt)\, rue du Vieux Comté\, 51\, Mourcourt\, 7543\, Belgium
ORGANIZER;CN="Jacqueline%20Dupont":MAILTO:jacleandebock@hotmail.com
END:VEVENT
BEGIN:VEVENT
DTSTART;TZID=Europe/Brussels:20240926T190000
DTEND;TZID=Europe/Brussels:20240926T220000
DTSTAMP:20260421T031519
CREATED:20240902T212607Z
LAST-MODIFIED:20241014T073553Z
UID:2423-1727377200-1727388000@clubattitudeplus.com
SUMMARY:J'atteins mes objectifs - Liège - Pass gratuit accepté
DESCRIPTION:Groupe Colibri\nViens définir tes propres objectifs avec nous pour donner du sens à tes actions quotidiennes et ainsi t’épanouir davantage !
URL:https://clubattitudeplus.com/evenement/jatteins-mes-objectifs-liege/
LOCATION:Liège\, rue Simon Radoux 19\, Liège\, 4000\, Belgium
ORGANIZER;CN="Marie%20Nix":MAILTO:Marie.nix4600@gmail.com
END:VEVENT
BEGIN:VEVENT
DTSTART;TZID=Europe/Brussels:20240926T190000
DTEND;TZID=Europe/Brussels:20240926T220000
DTSTAMP:20260421T031519
CREATED:20241015T061145Z
LAST-MODIFIED:20241015T061145Z
UID:2595-1727377200-1727388000@clubattitudeplus.com
SUMMARY:J'apprends à me connaître... Quels sont mes besoins? - Liège - Pass gratuit accepté
DESCRIPTION:Groupe Colibri\nConnaître ses besoins et les comprendre permet également de renforcer sa motivation à atteindre ses propres objectifs\, en menant des actions en accord avec ses désirs profonds
URL:https://clubattitudeplus.com/evenement/japprends-a-me-connaitre-quels-sont-mes-besoins-liege-pass-gratuit-accepte-2/
LOCATION:Liège\, rue Simon Radoux 19\, Liège\, 4000\, Belgium
ORGANIZER;CN="Marie%20Nix":MAILTO:Marie.nix4600@gmail.com
END:VEVENT
END:VCALENDAR