BEGIN:VCALENDAR
VERSION:2.0
PRODID:-//Club Attitude Plus - ECPv5.9.0//NONSGML v1.0//EN
CALSCALE:GREGORIAN
METHOD:PUBLISH
X-WR-CALNAME:Club Attitude Plus
X-ORIGINAL-URL:https://clubattitudeplus.com
X-WR-CALDESC:Events for Club Attitude Plus
BEGIN:VTIMEZONE
TZID:Europe/Brussels
BEGIN:DAYLIGHT
TZOFFSETFROM:+0100
TZOFFSETTO:+0200
TZNAME:CEST
DTSTART:20240331T010000
END:DAYLIGHT
BEGIN:STANDARD
TZOFFSETFROM:+0200
TZOFFSETTO:+0100
TZNAME:CET
DTSTART:20241027T010000
END:STANDARD
END:VTIMEZONE
BEGIN:VEVENT
DTSTART;TZID=Europe/Brussels:20241007T183000
DTEND;TZID=Europe/Brussels:20241007T183000
DTSTAMP:20260420T235624
CREATED:20240916T124849Z
LAST-MODIFIED:20240916T124849Z
UID:2539-1728325800-1728325800@clubattitudeplus.com
SUMMARY:Je désencombre\, donc je m'allège - Herstal (Liers) - Pass gratuit accepté
DESCRIPTION:Groupe Charlemagne\n\n  \n  \n  \n 
URL:https://clubattitudeplus.com/evenement/je-desencombre-donc-je-mallege-herstal-liers-pass-gratuit-accepte/
LOCATION:Liers\, 653 Chaussée Brunehaut 4042\, Liers - Herstal\, 4042\, Belgium
ORGANIZER;CN="V%C3%A9ro%20Hoffer":MAILTO:verohoffer@gmail.com
END:VEVENT
BEGIN:VEVENT
DTSTART;TZID=Europe/Brussels:20241012T183000
DTEND;TZID=Europe/Brussels:20241012T223000
DTSTAMP:20260420T235624
CREATED:20240830T084427Z
LAST-MODIFIED:20240905T123626Z
UID:2389-1728757800-1728772200@clubattitudeplus.com
SUMMARY:La visualisation créatrice - Tournai (Kain) - Pass gratuit accepté
DESCRIPTION:Groupe Etoilia
URL:https://clubattitudeplus.com/evenement/la-visualisation-creatrice/
LOCATION:Espace Libre\, Rue des Ecoles 17\, 7540 Tournai (Kain)\, 7540\, Belgium
ORGANIZER;CN="Jean-Yves%20Renard":MAILTO:jeanyvesrenard@yahoo.fr
END:VEVENT
BEGIN:VEVENT
DTSTART;TZID=Europe/Brussels:20241016T190000
DTEND;TZID=Europe/Brussels:20241016T223000
DTSTAMP:20260420T235624
CREATED:20240916T124144Z
LAST-MODIFIED:20240916T124144Z
UID:2532-1729105200-1729117800@clubattitudeplus.com
SUMMARY:Accepter ce que je ne peux pas changer- Flémalle - Pass gratuit accepté
DESCRIPTION:Groupe Légia
URL:https://clubattitudeplus.com/evenement/accepter-ce-que-je-ne-peux-pas-changer-flemalle-pass-gratuit-accepte/
LOCATION:Salle du Comité des Fêtes\, Route de Souxhon\, 210\, Flémalle\, 4400\, Belgium
ORGANIZER;CN="Rosa%20Lentini":MAILTO:rosalentini@yahoo.fr
END:VEVENT
BEGIN:VEVENT
DTSTART;TZID=Europe/Brussels:20241024T190000
DTEND;TZID=Europe/Brussels:20241024T220000
DTSTAMP:20260420T235624
CREATED:20241014T073810Z
LAST-MODIFIED:20241014T073810Z
UID:2601-1729796400-1729807200@clubattitudeplus.com
SUMMARY:J'apprends à me connaître... Quels sont mes besoins? - Liège - Pass gratuit accepté
DESCRIPTION:Groupe Colibri\nConnaître tes besoins et les comprendre permet également de renforcer ta motivation à atteindre tes propres objectifs\, en menant des actions en accord avec tes désirs profonds.
URL:https://clubattitudeplus.com/evenement/japprends-a-me-connaitre-quels-sont-mes-besoins-liege-pass-gratuit-accepte/
LOCATION:Liège\, rue Simon Radoux 19\, Liège\, 4000\, Belgium
ORGANIZER;CN="Marie%20Nix":MAILTO:Marie.nix4600@gmail.com
END:VEVENT
BEGIN:VEVENT
DTSTART;TZID=Europe/Brussels:20241026T173000
DTEND;TZID=Europe/Brussels:20241026T223000
DTSTAMP:20260420T235624
CREATED:20240916T114153Z
LAST-MODIFIED:20240916T114153Z
UID:2490-1729963800-1729981800@clubattitudeplus.com
SUMMARY:Si on se décompliquait la vie - Tournai (Mourcourt) - Pass gratuit accepté
DESCRIPTION:Groupe Energie
URL:https://clubattitudeplus.com/evenement/si-on-se-decompliquait-la-vie-tournai-mourcourt-pass-gratuit-accepte/
LOCATION:Tournai (Mourcourt)\, rue du Vieux Comté\, 51\, Mourcourt\, 7543\, Belgium
ORGANIZER;CN="Jacqueline%20Dupont":MAILTO:jacleandebock@hotmail.com
END:VEVENT
END:VCALENDAR