BEGIN:VCALENDAR
VERSION:2.0
PRODID:-//Club Attitude Plus - ECPv5.9.0//NONSGML v1.0//EN
CALSCALE:GREGORIAN
METHOD:PUBLISH
X-WR-CALNAME:Club Attitude Plus
X-ORIGINAL-URL:https://clubattitudeplus.com
X-WR-CALDESC:Events for Club Attitude Plus
BEGIN:VTIMEZONE
TZID:Europe/Brussels
BEGIN:DAYLIGHT
TZOFFSETFROM:+0100
TZOFFSETTO:+0200
TZNAME:CEST
DTSTART:20250330T010000
END:DAYLIGHT
BEGIN:STANDARD
TZOFFSETFROM:+0200
TZOFFSETTO:+0100
TZNAME:CET
DTSTART:20251026T010000
END:STANDARD
END:VTIMEZONE
BEGIN:VEVENT
DTSTART;TZID=Europe/Brussels:20250111T183000
DTEND;TZID=Europe/Brussels:20250111T223000
DTSTAMP:20260420T134928
CREATED:20240916T120856Z
LAST-MODIFIED:20240916T120856Z
UID:2520-1736620200-1736634600@clubattitudeplus.com
SUMMARY:La consolation - Tournai (Kain) - Pass gratuit accepté
DESCRIPTION:Groupe Etoilia
URL:https://clubattitudeplus.com/evenement/la-consolation-tournai-kain-pass-gratuit-accepte/
LOCATION:Espace Libre\, Rue des Ecoles 17\, 7540 Tournai (Kain)\, 7540\, Belgium
ORGANIZER;CN="Jean-Yves%20Renard":MAILTO:jeanyvesrenard@yahoo.fr
END:VEVENT
BEGIN:VEVENT
DTSTART;TZID=Europe/Brussels:20250115T190000
DTEND;TZID=Europe/Brussels:20250115T223000
DTSTAMP:20260420T134928
CREATED:20241217T173107Z
LAST-MODIFIED:20241217T173107Z
UID:2641-1736967600-1736980200@clubattitudeplus.com
SUMMARY:La finitude. Ah oui\, déjà? Parlons-en! - Flémalle - Pass gratuit accepté
DESCRIPTION:Groupe Légia
URL:https://clubattitudeplus.com/evenement/la-finitude-ah-oui-deja-parlons-en-flemalle-pass-gratuit-accepte/
LOCATION:Salle du Comité des Fêtes\, Route de Souxhon\, 210\, Flémalle\, 4400\, Belgium
ORGANIZER;CN="Rosa%20Lentini":MAILTO:rosalentini@yahoo.fr
END:VEVENT
BEGIN:VEVENT
DTSTART;TZID=Europe/Brussels:20250118T173000
DTEND;TZID=Europe/Brussels:20250118T173000
DTSTAMP:20260420T134928
CREATED:20240916T115433Z
LAST-MODIFIED:20240916T115433Z
UID:2504-1737221400-1737221400@clubattitudeplus.com
SUMMARY:La pensée utile- Tournai (Mourcourt) - Pass gratuit accepté
DESCRIPTION:Groupe Energie
URL:https://clubattitudeplus.com/evenement/la-pensee-utile-tournai-mourcourt-pass-gratuit-accepte-2/
LOCATION:Tournai (Mourcourt)\, rue du Vieux Comté\, 51\, Mourcourt\, 7543\, Belgium
ORGANIZER;CN="Jacqueline%20Dupont":MAILTO:jacleandebock@hotmail.com
END:VEVENT
BEGIN:VEVENT
DTSTART;TZID=Europe/Brussels:20250120T183000
DTEND;TZID=Europe/Brussels:20250120T183000
DTSTAMP:20260420T134928
CREATED:20241217T172758Z
LAST-MODIFIED:20250108T102229Z
UID:2639-1737397800-1737397800@clubattitudeplus.com
SUMMARY:Croire en soi et oser - Herstal (Liers) - Pass gratuit accepté
DESCRIPTION:Groupe Charlemagne\n\n  \n  \n  \n 
URL:https://clubattitudeplus.com/evenement/croire-en-soi-et-oser-herstal-liers-pass-gratuit-accepte/
LOCATION:Liers\, 653 Chaussée Brunehaut 4042\, Liers - Herstal\, 4042\, Belgium
ORGANIZER;CN="V%C3%A9ro%20Hoffer":MAILTO:verohoffer@gmail.com
END:VEVENT
BEGIN:VEVENT
DTSTART;TZID=Europe/Brussels:20250130T190000
DTEND;TZID=Europe/Brussels:20250130T220000
DTSTAMP:20260420T134928
CREATED:20250107T123815Z
LAST-MODIFIED:20250107T123815Z
UID:2669-1738263600-1738274400@clubattitudeplus.com
SUMMARY:Rayonner de l'intérieur: un voyage vers la positivité- Liège - Pass gratuit accepté
DESCRIPTION:Groupe Colibri
URL:https://clubattitudeplus.com/evenement/rayonner-de-linterieur-un-voyage-vers-la-positivite-liege-pass-gratuit-accepte/
LOCATION:Liège\, rue Simon Radoux 19\, Liège\, 4000\, Belgium
ORGANIZER;CN="Marie%20Nix":MAILTO:Marie.nix4600@gmail.com
END:VEVENT
END:VCALENDAR