BEGIN:VCALENDAR
VERSION:2.0
PRODID:-//Club Attitude Plus - ECPv5.9.0//NONSGML v1.0//EN
CALSCALE:GREGORIAN
METHOD:PUBLISH
X-WR-CALNAME:Club Attitude Plus
X-ORIGINAL-URL:https://clubattitudeplus.com
X-WR-CALDESC:Events for Club Attitude Plus
BEGIN:VTIMEZONE
TZID:Europe/Brussels
BEGIN:DAYLIGHT
TZOFFSETFROM:+0100
TZOFFSETTO:+0200
TZNAME:CEST
DTSTART:20250330T010000
END:DAYLIGHT
BEGIN:STANDARD
TZOFFSETFROM:+0200
TZOFFSETTO:+0100
TZNAME:CET
DTSTART:20251026T010000
END:STANDARD
END:VTIMEZONE
BEGIN:VEVENT
DTSTART;TZID=Europe/Brussels:20250512T183000
DTEND;TZID=Europe/Brussels:20250512T183000
DTSTAMP:20260419T222500
CREATED:20241226T082627Z
LAST-MODIFIED:20241226T082627Z
UID:2653-1747074600-1747074600@clubattitudeplus.com
SUMMARY:Assumer sa responsabilité pour mieux évoluer - Herstal (Liers) - Pass gratuit accepté
DESCRIPTION:Groupe Charlemagne\n\n  \n  \n  \n 
URL:https://clubattitudeplus.com/evenement/assumer-sa-responsabilite-pour-mieux-evoluer-herstal-liers-pass-gratuit-accepte/
LOCATION:Liers\, 653 Chaussée Brunehaut 4042\, Liers - Herstal\, 4042\, Belgium
ORGANIZER;CN="V%C3%A9ro%20Hoffer":MAILTO:verohoffer@gmail.com
END:VEVENT
BEGIN:VEVENT
DTSTART;TZID=Europe/Brussels:20250521T190000
DTEND;TZID=Europe/Brussels:20250521T223000
DTSTAMP:20260419T222500
CREATED:20250305T194128Z
LAST-MODIFIED:20250305T194128Z
UID:2763-1747854000-1747866600@clubattitudeplus.com
SUMMARY:Donner un sens à ma vie - Flémalle - Pass gratuit accepté
DESCRIPTION:Groupe Légia
URL:https://clubattitudeplus.com/evenement/donner-un-sens-a-ma-vie-flemalle-pass-gratuit-accepte/
LOCATION:Salle du Comité des Fêtes\, Route de Souxhon\, 210\, Flémalle\, 4400\, Belgium
ORGANIZER;CN="Rosa%20Lentini":MAILTO:rosalentini@yahoo.fr
END:VEVENT
BEGIN:VEVENT
DTSTART;TZID=Europe/Brussels:20250524T183000
DTEND;TZID=Europe/Brussels:20250524T183000
DTSTAMP:20260419T222500
CREATED:20240916T121426Z
LAST-MODIFIED:20250519T115152Z
UID:2530-1748111400-1748111400@clubattitudeplus.com
SUMMARY:De la culpabilité à la responsabilité pour vivre mieux- Tournai (Kain) - Pass gratuit accepté
DESCRIPTION:Groupe Etoilia
URL:https://clubattitudeplus.com/evenement/de-la-culpabilite-a-la-responsabilite-pour-vivre-mieux-tournai-kain-pass-gratuit-accepte/
LOCATION:Espace Libre\, Rue des Ecoles 17\, 7540 Tournai (Kain)\, 7540\, Belgium
ORGANIZER;CN="Jean-Yves%20Renard":MAILTO:jeanyvesrenard@yahoo.fr
END:VEVENT
BEGIN:VEVENT
DTSTART;TZID=Europe/Brussels:20250529T190000
DTEND;TZID=Europe/Brussels:20250529T220000
DTSTAMP:20260419T222500
CREATED:20250519T114819Z
LAST-MODIFIED:20250519T114819Z
UID:2831-1748545200-1748556000@clubattitudeplus.com
SUMMARY:Les accords toltèques - Entrainement et croissance - Liège - Pass gratuit accepté
DESCRIPTION:Groupe Colibri
URL:https://clubattitudeplus.com/evenement/les-accords-tolteques-entrainement-et-croissance-liege-pass-gratuit-accepte/
LOCATION:Liège\, rue Simon Radoux 19\, Liège\, 4000\, Belgium
ORGANIZER;CN="Marie%20Nix":MAILTO:Marie.nix4600@gmail.com
END:VEVENT
END:VCALENDAR