BEGIN:VCALENDAR
VERSION:2.0
PRODID:-//Club Attitude Plus - ECPv5.9.0//NONSGML v1.0//EN
CALSCALE:GREGORIAN
METHOD:PUBLISH
X-WR-CALNAME:Club Attitude Plus
X-ORIGINAL-URL:https://clubattitudeplus.com
X-WR-CALDESC:évènements pour Club Attitude Plus
BEGIN:VTIMEZONE
TZID:Europe/Brussels
BEGIN:DAYLIGHT
TZOFFSETFROM:+0100
TZOFFSETTO:+0200
TZNAME:CEST
DTSTART:20230326T010000
END:DAYLIGHT
BEGIN:STANDARD
TZOFFSETFROM:+0200
TZOFFSETTO:+0100
TZNAME:CET
DTSTART:20231029T010000
END:STANDARD
END:VTIMEZONE
BEGIN:VEVENT
DTSTART;TZID=Europe/Brussels:20231125T190000
DTEND;TZID=Europe/Brussels:20231125T230000
DTSTAMP:20260422T235327
CREATED:20231031T151256Z
LAST-MODIFIED:20231031T151256Z
UID:2106-1700938800-1700953200@clubattitudeplus.com
SUMMARY:Apprivoiser l'enfant qui est en nous. Ciblons le rejet
DESCRIPTION:Réunion d’entrainement \nGroupe Energie \nTournai
URL:https://clubattitudeplus.com/evenement/apprivoiser-lenfant-qui-est-en-nous-ciblons-le-rejet/
LOCATION:Rue du vert lion\, au-dessus de la piscine 7540 KAIN\, Rue du vert lion\, au-dessus de la piscine\, KAIN\, 7540
ORGANIZER;CN="Richard%20Huyghe":MAILTO:richard.huygue@gmail.com
END:VEVENT
END:VCALENDAR