BEGIN:VCALENDAR
VERSION:2.0
PRODID:-//Club Attitude Plus - ECPv5.9.0//NONSGML v1.0//EN
CALSCALE:GREGORIAN
METHOD:PUBLISH
X-WR-CALNAME:Club Attitude Plus
X-ORIGINAL-URL:https://clubattitudeplus.com
X-WR-CALDESC:évènements pour Club Attitude Plus
BEGIN:VTIMEZONE
TZID:Europe/Brussels
BEGIN:DAYLIGHT
TZOFFSETFROM:+0100
TZOFFSETTO:+0200
TZNAME:CEST
DTSTART:20250330T010000
END:DAYLIGHT
BEGIN:STANDARD
TZOFFSETFROM:+0200
TZOFFSETTO:+0100
TZNAME:CET
DTSTART:20251026T010000
END:STANDARD
END:VTIMEZONE
BEGIN:VEVENT
DTSTART;TZID=Europe/Brussels:20250417T193000
DTEND;TZID=Europe/Brussels:20250417T220000
DTSTAMP:20260420T090605
CREATED:20250228T184233Z
LAST-MODIFIED:20250326T095010Z
UID:2743-1744918200-1744927200@clubattitudeplus.com
SUMMARY:Conférence Bruno Humbeeck - Seraing
DESCRIPTION:S’estimer pour mieux grandir
URL:https://clubattitudeplus.com/evenement/conference-bruno-humbeeck-seraing/
LOCATION:Centre Culturel de Seraing
ORGANIZER;CN="Cyrianne%20Ladri%C3%A8re":MAILTO:cyrianne.ladriere@gmail.com
END:VEVENT
END:VCALENDAR