BEGIN:VCALENDAR
VERSION:2.0
PRODID:-//Club Attitude Plus - ECPv5.9.0//NONSGML v1.0//EN
CALSCALE:GREGORIAN
METHOD:PUBLISH
X-WR-CALNAME:Club Attitude Plus
X-ORIGINAL-URL:https://clubattitudeplus.com
X-WR-CALDESC:évènements pour Club Attitude Plus
BEGIN:VTIMEZONE
TZID:Europe/Brussels
BEGIN:DAYLIGHT
TZOFFSETFROM:+0100
TZOFFSETTO:+0200
TZNAME:CEST
DTSTART:20250330T010000
END:DAYLIGHT
BEGIN:STANDARD
TZOFFSETFROM:+0200
TZOFFSETTO:+0100
TZNAME:CET
DTSTART:20251026T010000
END:STANDARD
END:VTIMEZONE
BEGIN:VEVENT
DTSTART;TZID=Europe/Brussels:20250319T190000
DTEND;TZID=Europe/Brussels:20250319T213000
DTSTAMP:20260420T100314
CREATED:20250228T181854Z
LAST-MODIFIED:20250228T185534Z
UID:2737-1742410800-1742419800@clubattitudeplus.com
SUMMARY:Conférence Ilios Kotsou - Tournai
DESCRIPTION:La Magie de l’ordinaire
URL:https://clubattitudeplus.com/evenement/conference-ilios-kotsou-tournai/
ORGANIZER;CN="Cyrianne%20Ladri%C3%A8re":MAILTO:cyrianne.ladriere@gmail.com
END:VEVENT
END:VCALENDAR