BEGIN:VCALENDAR
VERSION:2.0
PRODID:-//Club Attitude Plus - ECPv5.9.0//NONSGML v1.0//EN
CALSCALE:GREGORIAN
METHOD:PUBLISH
X-WR-CALNAME:Club Attitude Plus
X-ORIGINAL-URL:https://clubattitudeplus.com
X-WR-CALDESC:évènements pour Club Attitude Plus
BEGIN:VTIMEZONE
TZID:Europe/Brussels
BEGIN:DAYLIGHT
TZOFFSETFROM:+0100
TZOFFSETTO:+0200
TZNAME:CEST
DTSTART:20230326T010000
END:DAYLIGHT
BEGIN:STANDARD
TZOFFSETFROM:+0200
TZOFFSETTO:+0100
TZNAME:CET
DTSTART:20231029T010000
END:STANDARD
END:VTIMEZONE
BEGIN:VEVENT
DTSTART;TZID=Europe/Brussels:20231127T183000
DTEND;TZID=Europe/Brussels:20231127T183000
DTSTAMP:20260422T194132
CREATED:20231110T083033Z
LAST-MODIFIED:20231110T084134Z
UID:2177-1701109800-1701109800@clubattitudeplus.com
SUMMARY:Croire en soi et oser
DESCRIPTION:Réfléchir ensemble et profiter des outils pour renforcer le confiance en soi et oser se lancer. \nRéunion d’entrainement \nGroupe Charlemagne \nLiers (Herstal)
URL:https://clubattitudeplus.com/evenement/croire-en-soi-et-oser/
LOCATION:Liers\, 653 Chaussée Brunehaut 4042\, Liers - Herstal\, 4042\, Belgium
ORGANIZER;CN="Gis%C3%A8le%20Rode":MAILTO:contact@clubattitudeplus.com
END:VEVENT
END:VCALENDAR