BEGIN:VCALENDAR
VERSION:2.0
PRODID:-//Club Attitude Plus - ECPv5.9.0//NONSGML v1.0//EN
CALSCALE:GREGORIAN
METHOD:PUBLISH
X-WR-CALNAME:Club Attitude Plus
X-ORIGINAL-URL:https://clubattitudeplus.com
X-WR-CALDESC:évènements pour Club Attitude Plus
BEGIN:VTIMEZONE
TZID:Europe/Brussels
BEGIN:DAYLIGHT
TZOFFSETFROM:+0100
TZOFFSETTO:+0200
TZNAME:CEST
DTSTART:20230326T010000
END:DAYLIGHT
BEGIN:STANDARD
TZOFFSETFROM:+0200
TZOFFSETTO:+0100
TZNAME:CET
DTSTART:20231029T010000
END:STANDARD
END:VTIMEZONE
BEGIN:VEVENT
DTSTART;TZID=Europe/Brussels:20230311T190000
DTEND;TZID=Europe/Brussels:20230311T190000
DTSTAMP:20260424T010422
CREATED:20221005T150503Z
LAST-MODIFIED:20221005T150701Z
UID:1640-1678561200-1678561200@clubattitudeplus.com
SUMMARY:Etoilia   ORCQ (Tournai)
DESCRIPTION:Réunion d’entrainement\nThème du jour:\nL’amour et la peur \n 
URL:https://clubattitudeplus.com/evenement/etoilia-orcq-tournai-5/
LOCATION:ORCQ\, Chaussée de Lille 475/2\, ORCQ\, 7501
ORGANIZER;CN="Agn%C3%A9s%20Hannard":MAILTO:agneshannard@hotmail.com
END:VEVENT
END:VCALENDAR