BEGIN:VCALENDAR
VERSION:2.0
PRODID:-//Club Attitude Plus - ECPv5.9.0//NONSGML v1.0//EN
CALSCALE:GREGORIAN
METHOD:PUBLISH
X-WR-CALNAME:Club Attitude Plus
X-ORIGINAL-URL:https://clubattitudeplus.com
X-WR-CALDESC:évènements pour Club Attitude Plus
BEGIN:VTIMEZONE
TZID:Europe/Brussels
BEGIN:DAYLIGHT
TZOFFSETFROM:+0100
TZOFFSETTO:+0200
TZNAME:CEST
DTSTART:20240331T010000
END:DAYLIGHT
BEGIN:STANDARD
TZOFFSETFROM:+0200
TZOFFSETTO:+0100
TZNAME:CET
DTSTART:20241027T010000
END:STANDARD
END:VTIMEZONE
BEGIN:VEVENT
DTSTART;TZID=Europe/Brussels:20241228T173000
DTEND;TZID=Europe/Brussels:20241228T173000
DTSTAMP:20260420T213928
CREATED:20241202T103113Z
LAST-MODIFIED:20241202T103113Z
UID:2497-1735407000-1735407000@clubattitudeplus.com
SUMMARY:Je ris\, je vis\, j'ai confiance en la vie et elle me le rend bien - Tournai (Mourcourt) - Pass gratuit accepté
DESCRIPTION:Groupe Energie
URL:https://clubattitudeplus.com/evenement/je-ris-je-vis-jai-confiance-en-la-vie-et-elle-me-le-rend-bien-tournai-mourcourt-pass-gratuit-accepte-2/
LOCATION:Tournai (Mourcourt)\, rue du Vieux Comté\, 51\, Mourcourt\, 7543\, Belgium
ORGANIZER;CN="Jacqueline%20Dupont":MAILTO:jacleandebock@hotmail.com
END:VEVENT
END:VCALENDAR