BEGIN:VCALENDAR
VERSION:2.0
PRODID:-//Club Attitude Plus - ECPv5.9.0//NONSGML v1.0//EN
CALSCALE:GREGORIAN
METHOD:PUBLISH
X-WR-CALNAME:Club Attitude Plus
X-ORIGINAL-URL:https://clubattitudeplus.com
X-WR-CALDESC:évènements pour Club Attitude Plus
BEGIN:VTIMEZONE
TZID:Europe/Brussels
BEGIN:DAYLIGHT
TZOFFSETFROM:+0100
TZOFFSETTO:+0200
TZNAME:CEST
DTSTART:20240331T010000
END:DAYLIGHT
BEGIN:STANDARD
TZOFFSETFROM:+0200
TZOFFSETTO:+0100
TZNAME:CET
DTSTART:20241027T010000
END:STANDARD
END:VTIMEZONE
BEGIN:VEVENT
DTSTART;TZID=Europe/Brussels:20240320T190000
DTEND;TZID=Europe/Brussels:20240320T190000
DTSTAMP:20260422T033144
CREATED:20231106T150633Z
LAST-MODIFIED:20240312T175103Z
UID:2130-1710961200-1710961200@clubattitudeplus.com
SUMMARY:Les obstacles de la vie\, le pardon pour qui\, pourquoi ?
DESCRIPTION:Le pardon est une force. Il nous libère de toutes les chaînes du passé et nous aide à surmonter tous les obstacles. \n\nRéunion mensuelle\nGroupe Légia\nFlémalle\nAccueil  19h \nPass-gratuit accepté \n 
URL:https://clubattitudeplus.com/evenement/la-vigilance-labus-de-confiance-la-manipulation-2/
LOCATION:Salle du Quartier\,\, Route de Souxhon\, 210\, 4400 Flemalle
ORGANIZER;CN="Josiane%20Poumay":MAILTO:jojoweick@gmail.ccom
END:VEVENT
END:VCALENDAR