BEGIN:VCALENDAR
VERSION:2.0
PRODID:-//Club Attitude Plus - ECPv5.9.0//NONSGML v1.0//EN
CALSCALE:GREGORIAN
METHOD:PUBLISH
X-WR-CALNAME:Club Attitude Plus
X-ORIGINAL-URL:https://clubattitudeplus.com
X-WR-CALDESC:évènements pour Club Attitude Plus
BEGIN:VTIMEZONE
TZID:Europe/Brussels
BEGIN:DAYLIGHT
TZOFFSETFROM:+0100
TZOFFSETTO:+0200
TZNAME:CEST
DTSTART:20240331T010000
END:DAYLIGHT
BEGIN:STANDARD
TZOFFSETFROM:+0200
TZOFFSETTO:+0100
TZNAME:CET
DTSTART:20241027T010000
END:STANDARD
END:VTIMEZONE
BEGIN:VEVENT
DTSTART;TZID=Europe/Brussels:20240513T190000
DTEND;TZID=Europe/Brussels:20240513T223000
DTSTAMP:20260421T192207
CREATED:20240305T144600Z
LAST-MODIFIED:20240305T161308Z
UID:2268-1715626800-1715639400@clubattitudeplus.com
SUMMARY:Lâcher-prise
DESCRIPTION:c’est l’acceptation et l’adaptation aux changements\, la capacité à voir la réalité telle qu’elle est sans se laisser dominer par une réalité imaginaire \n  \nRéunion mensuelle Charlemagne Liers-Herstal
URL:https://clubattitudeplus.com/evenement/reunion-mensuelle-charlemagne-liers-herstal-3/
LOCATION:Liers\, 653 Chaussée Brunehaut 4042\, Liers - Herstal\, 4042\, Belgium
ORGANIZER;CN="V%C3%A9ro%20Hoffer":MAILTO:verohoffer@gmail.com
END:VEVENT
END:VCALENDAR